BEGIN:VCALENDAR
VERSION:2.0
PRODID:-//Medical Business - ECPv6.15.20//NONSGML v1.0//EN
CALSCALE:GREGORIAN
METHOD:PUBLISH
X-ORIGINAL-URL:https://medicalbusiness.nl
X-WR-CALDESC:Evenementen voor Medical Business
REFRESH-INTERVAL;VALUE=DURATION:PT1H
X-Robots-Tag:noindex
X-PUBLISHED-TTL:PT1H
BEGIN:VTIMEZONE
TZID:Europe/Amsterdam
BEGIN:DAYLIGHT
TZOFFSETFROM:+0100
TZOFFSETTO:+0200
TZNAME:CEST
DTSTART:20170326T010000
END:DAYLIGHT
BEGIN:STANDARD
TZOFFSETFROM:+0200
TZOFFSETTO:+0100
TZNAME:CET
DTSTART:20171029T010000
END:STANDARD
BEGIN:DAYLIGHT
TZOFFSETFROM:+0100
TZOFFSETTO:+0200
TZNAME:CEST
DTSTART:20180325T010000
END:DAYLIGHT
BEGIN:STANDARD
TZOFFSETFROM:+0200
TZOFFSETTO:+0100
TZNAME:CET
DTSTART:20181028T010000
END:STANDARD
BEGIN:DAYLIGHT
TZOFFSETFROM:+0100
TZOFFSETTO:+0200
TZNAME:CEST
DTSTART:20190331T010000
END:DAYLIGHT
BEGIN:STANDARD
TZOFFSETFROM:+0200
TZOFFSETTO:+0100
TZNAME:CET
DTSTART:20191027T010000
END:STANDARD
END:VTIMEZONE
BEGIN:VEVENT
DTSTART;TZID=Europe/Amsterdam:20180215T183000
DTEND;TZID=Europe/Amsterdam:20180215T223000
DTSTAMP:20260420T071927
CREATED:20180118T210028Z
LAST-MODIFIED:20250929T133431Z
UID:2190-1518719400-1518733800@medicalbusiness.nl
SUMMARY:Medical Business Concert
DESCRIPTION:Een foto impressie van Medical Business Concert >>\nOp donderdagavond 15 februari organiseert Medical Business i.s.m Entrée een uniek evenement waarbij zorg en muziek elkaar ontmoeten in het Koninklijk Concertgebouw Amsterdam. Deze avond zal starten met de visie van Jan Kimpen op de toekomst van de gezondheidszorg. Als het gaat over medische technologie\, vallen vaak de woorden ‘IBM Watson en Big Data’\, maar wat kunnen wij de komende jaren precies verwachten? \nNa de lezing zijn er plaatsen gereserveerd in de grote zaal waar het Koninklijk Concertgebouw Orkest Bruch’s dubbelconcert voor piano en Sjostakovitsj’ vijfde symfonie zal spelen. Tussendoor is er gelegenheid om elkaar te spreken onder het genot van een drankje. Kortom\, de kans om op één avond een inspirerende lezing bij te wonen en kennis te maken met één van Nederlands grootste cultuurhuizen en orkest. \nPraktische informatie\nInloop is vanaf 18:00\, het programma zal van start gaan om 18:30 \nKosten (incl. lezing\, consumpties en concert)\n€35\,- \nProgramma\n\n\n\n\nTijd\nOmschrijving\n\n\n\n\n18.00 – 18.30\nInloop en ontvangst \n\n\n18.30 – 19.15\nLezing in de Koorzaal: Van kinderarts naar Chief Medical Officer van Phillips\nJan Kimpen\n\n\n19.30 – 20.10\nBorrel in de Museumfoyer\n\n\n20:15 – 22.15\nConcert in de Grote Zaal\nBruch’s dubbelconcert voor piano en Sjostakovitsj’ vijfde symfonie\n\n\n\n\n  \nSpreker\n\n\n\n\n \nJan Kimpen\nChief Medical officer Philips\nVoormalig hoogleraar kindergeneeskunde Jan Kimpen stapte twee jaar geleden over van het UMCU naar de internationale corporate wereld van Philips. ‘Mijn taak is om de verbinding met de buitenwereld te maken.’\nIn een interview met het Medisch Contact zegt Jan Kimpen “Mijn overstap is in het geheel geen breuk met de medische wereld\, al is mijn registratie als kinderarts verlopen. Ik praat met artsen\, kom in ziekenhuizen en voel me ermee verbonden. Mijn voeten in de klei zijn van groot belang om die verhalen en ervaringen te vertalen naar betere producties van Philips. Ik probeer me altijd voor te stellen wat een arts nodig heeft.”\nMeer weten over Jan Kimpen?
URL:https://medicalbusiness.nl/event/mb-concert/
LOCATION:Koninklijk Concertgebouw Amsterdam\, Concertgebouwplein 10\, Amsterdam\, Noord-Holland\, 1071 LN\, Nederland
CATEGORIES:Stichting Medical Business
ATTACH;FMTTYPE=image/jpeg:https://medicalbusiness.nl/wp-content/uploads/2018/01/Facebook-Event.jpg
END:VEVENT
END:VCALENDAR