BEGIN:VCALENDAR
VERSION:2.0
PRODID:-//Medical Business - ECPv6.15.20//NONSGML v1.0//EN
CALSCALE:GREGORIAN
METHOD:PUBLISH
X-WR-CALNAME:Medical Business
X-ORIGINAL-URL:https://medicalbusiness.nl
X-WR-CALDESC:Evenementen voor Medical Business
REFRESH-INTERVAL;VALUE=DURATION:PT1H
X-Robots-Tag:noindex
X-PUBLISHED-TTL:PT1H
BEGIN:VTIMEZONE
TZID:Europe/Amsterdam
BEGIN:DAYLIGHT
TZOFFSETFROM:+0100
TZOFFSETTO:+0200
TZNAME:CEST
DTSTART:20160327T010000
END:DAYLIGHT
BEGIN:STANDARD
TZOFFSETFROM:+0200
TZOFFSETTO:+0100
TZNAME:CET
DTSTART:20161030T010000
END:STANDARD
BEGIN:DAYLIGHT
TZOFFSETFROM:+0100
TZOFFSETTO:+0200
TZNAME:CEST
DTSTART:20170326T010000
END:DAYLIGHT
BEGIN:STANDARD
TZOFFSETFROM:+0200
TZOFFSETTO:+0100
TZNAME:CET
DTSTART:20171029T010000
END:STANDARD
BEGIN:DAYLIGHT
TZOFFSETFROM:+0100
TZOFFSETTO:+0200
TZNAME:CEST
DTSTART:20180325T010000
END:DAYLIGHT
BEGIN:STANDARD
TZOFFSETFROM:+0200
TZOFFSETTO:+0100
TZNAME:CET
DTSTART:20181028T010000
END:STANDARD
END:VTIMEZONE
BEGIN:VEVENT
DTSTART;VALUE=DATE:20170821
DTEND;VALUE=DATE:20170825
DTSTAMP:20260424T180012
CREATED:20170516T074919Z
LAST-MODIFIED:20170516T082211Z
UID:122-1503273600-1503619199@medicalbusiness.nl
SUMMARY:TIAS-MBE Summer Academy: 21 t/m 24 augustus 2017
DESCRIPTION:In 2017 organiseren TIAS School for Business and Society en Medical Business Education wederom een Summer Academy van vier dagen\, speciaal gericht op AIOS en ANIOS. In deze dagen krijgen deelnemers de laatste academische inzichten in onder andere leiderschap\, strategie\, financiën en organisatie in de zorg. Dit alles ondersteund met case studies uit de dagelijkse praktijk van de zorg. \nNB: de eerste 80 aanmeldingen worden meegenomen\, waarvan uiteindelijk 40 deelnemers geselecteerd worden\, dus wees er op tijd bij!
URL:https://medicalbusiness.nl/event/tias-mbe-summer-academy-21-tm-24-augustus-2017/
CATEGORIES:Summer Academy
ATTACH;FMTTYPE=image/jpeg:https://medicalbusiness.nl/wp-content/uploads/2017/05/summer-academy.jpg
ORGANIZER;CN="Medical Business Education":MAILTO:academy@medicalbusiness.nl
END:VEVENT
END:VCALENDAR